BEGIN:VCALENDAR
VERSION:2.0
PRODID:-//https://www.colchester.ca//NONSGML kigkonsult.se iCalcreator 2.29
 .29//
CALSCALE:GREGORIAN
METHOD:PUBLISH
UID:4fa28d09-3e3f-4496-b2c0-f004974a741f
X-WR-CALNAME:JCal Pro Calendar
X-WR-CALDESC:Your online events calendar
X-WR-TIMEZONE:America/Halifax
BEGIN:VTIMEZONE
TZID:America/Halifax
BEGIN:STANDARD
TZNAME:AST
DTSTART:20251102T020000
TZOFFSETFROM:-0300
TZOFFSETTO:-0400
RDATE:20261101T020000
END:STANDARD
BEGIN:DAYLIGHT
TZNAME:ADT
DTSTART:20260308T020000
TZOFFSETFROM:-0400
TZOFFSETTO:-0300
RDATE:20270314T020000
END:DAYLIGHT
END:VTIMEZONE
BEGIN:VEVENT
UID:20260422T180000ADT-8508ukuugZ@https://www.colchester.ca/
DTSTAMP:20260422T121859Z
CATEGORIES:Planning Meetings
DESCRIPTION:<p>There will be a Colchester Planning Advisory Committee meeti
 ng on April 22\, 2026 at 6:00 pm in Council Chambers at 1 Church Street Tr
 uro\, NS. This is a Public Information Meeting as well for proposed Admini
 strative Amendments to the Colchester MPS/ LUB. If you have any questions 
 or concerns please contact Pam Macintosh at <span id='cloak077de47298c80c3
 d5ab920282c175627'>This email address is being protected from spambots. Yo
 u need JavaScript enabled to view it.</span><script type='text/javascript'
 >\n				document.getElementById('cloak077de47298c80c3d5ab920282c175627').innerH
 TML = ''\;\n				var prefix = '&#109\;a' + 'i&#108\;' + '&#116\;o'\;\n				var path 
 = 'hr' + 'ef' + '='\;\n				var addy077de47298c80c3d5ab920282c175627 = 'pm&#97\
 ;c&#105\;nt&#111\;sh' + '&#64\;'\;\n				addy077de47298c80c3d5ab920282c175627 =
  addy077de47298c80c3d5ab920282c175627 + 'c&#111\;lch&#101\;st&#101\;r' + '
 &#46\;' + 'c&#97\;'\;\n				var addy_text077de47298c80c3d5ab920282c175627 = 'pm
 &#97\;c&#105\;nt&#111\;sh' + '&#64\;' + 'c&#111\;lch&#101\;st&#101\;r' + '
 &#46\;' + 'c&#97\;'\;document.getElementById('cloak077de47298c80c3d5ab9202
 82c175627').innerHTML += '<a ' + path + '\'' + prefix + ':' + addy077de472
 98c80c3d5ab920282c175627 + '\'>'+addy_text077de47298c80c3d5ab920282c175627
 +'<\/a>'\;\n		</script>&nbsp\;or via phone at 902-897-3170.</p>
DTSTART;TZID=America/Halifax:20260422T180000
DTEND;TZID=America/Halifax:20260422T210000
SUMMARY:Colchester Planning Advisory Committee Meeting
URL:https://www.colchester.ca/35-planning-meetings/304-colchester-planning-
 advisory-committee-meeting
X-ALT-DESC;FMTTYPE=TEXT/HTML:<p>There will be a Colchester Planning Advisor
 y Committee meeting on April 22\, 2026 at 6:00 pm in Council Chambers at 1
  Church Street Truro\, NS. This is a Public Information Meeting as well fo
 r proposed Administrative Amendments to the Colchester MPS/ LUB. If you ha
 ve any questions or concerns please contact Pam Macintosh at <span id='clo
 ak077de47298c80c3d5ab920282c175627'>This email address is being protected 
 from spambots. You need JavaScript enabled to view it.</span><script type=
 'text/javascript'>\n				document.getElementById('cloak077de47298c80c3d5ab92028
 2c175627').innerHTML = ''\;\n				var prefix = '&#109\;a' + 'i&#108\;' + '&#116
 \;o'\;\n				var path = 'hr' + 'ef' + '='\;\n				var addy077de47298c80c3d5ab920282c
 175627 = 'pm&#97\;c&#105\;nt&#111\;sh' + '&#64\;'\;\n				addy077de47298c80c3d5
 ab920282c175627 = addy077de47298c80c3d5ab920282c175627 + 'c&#111\;lch&#101
 \;st&#101\;r' + '&#46\;' + 'c&#97\;'\;\n				var addy_text077de47298c80c3d5ab92
 0282c175627 = 'pm&#97\;c&#105\;nt&#111\;sh' + '&#64\;' + 'c&#111\;lch&#101
 \;st&#101\;r' + '&#46\;' + 'c&#97\;'\;document.getElementById('cloak077de4
 7298c80c3d5ab920282c175627').innerHTML += '<a ' + path + '\'' + prefix + '
 :' + addy077de47298c80c3d5ab920282c175627 + '\'>'+addy_text077de47298c80c3
 d5ab920282c175627+'<\/a>'\;\n		</script>&nbsp\;or via phone at 902-897-3170.
 </p>
END:VEVENT
END:VCALENDAR
